BEGIN:VCALENDAR
VERSION:2.0
PRODID:-//Chelsea Chen - ECPv4.6.9//NONSGML v1.0//EN
CALSCALE:GREGORIAN
METHOD:PUBLISH
X-WR-CALNAME:Chelsea Chen
X-ORIGINAL-URL:https://chelseachen.com
X-WR-CALDESC:Events for Chelsea Chen
BEGIN:VEVENT
DTSTART;TZID=America/New_York:20211106T193000
DTEND;TZID=America/New_York:20211106T200000
DTSTAMP:20260423T191606
CREATED:20211101T192049Z
LAST-MODIFIED:20211101T193123Z
UID:2155-1636227000-1636228800@chelseachen.com
SUMMARY:Florida International University\, Miami\, FL
DESCRIPTION:Solo Concert at the Wertheim Performing Arts Center \n
URL:https://chelseachen.com/event/florida-international-university/
LOCATION:10910 SW 17th ST\, Miami\, Florida 33199.
END:VEVENT
END:VCALENDAR