BEGIN:VCALENDAR
VERSION:2.0
PRODID:-//Chelsea Chen - ECPv4.6.9//NONSGML v1.0//EN
CALSCALE:GREGORIAN
METHOD:PUBLISH
X-WR-CALNAME:Chelsea Chen
X-ORIGINAL-URL:https://chelseachen.com
X-WR-CALDESC:Events for Chelsea Chen
BEGIN:VEVENT
DTSTART;TZID=America/New_York:20230217T190000
DTEND;TZID=America/New_York:20230217T210000
DTSTAMP:20260423T173044
CREATED:20221004T201328Z
LAST-MODIFIED:20221222T122303Z
UID:2260-1676660400-1676667600@chelseachen.com
SUMMARY:First United Methodist Church\, Coral Gables\, FL
DESCRIPTION:Solo Recital \n
URL:https://chelseachen.com/event/first-united-methodist-church-coral-gables-fl/
END:VEVENT
END:VCALENDAR