BEGIN:VCALENDAR
VERSION:2.0
PRODID:-//Chelsea Chen - ECPv4.6.9//NONSGML v1.0//EN
CALSCALE:GREGORIAN
METHOD:PUBLISH
X-WR-CALNAME:Chelsea Chen
X-ORIGINAL-URL:https://chelseachen.com
X-WR-CALDESC:Events for Chelsea Chen
BEGIN:VEVENT
DTSTART;TZID=America/Chicago:20181118T170000
DTEND;TZID=America/Chicago:20181118T183000
DTSTAMP:20260424T000612
CREATED:20180920T035229Z
LAST-MODIFIED:20180920T035247Z
UID:1925-1542560400-1542565800@chelseachen.com
SUMMARY:Birmingham\, MI
DESCRIPTION:Solo Concert \n
URL:https://chelseachen.com/event/first-presbyterian-church-birmingham-mi-500-pm/
LOCATION:1669 W Maple Rd\, Birmingham\, MI 48009
ATTACH;FMTTYPE=image/jpeg:https://chelseachen.com/wp-content/uploads/2018/09/bmi.jpg
END:VEVENT
END:VCALENDAR