BEGIN:VCALENDAR
VERSION:2.0
PRODID:-//Chelsea Chen - ECPv4.6.9//NONSGML v1.0//EN
CALSCALE:GREGORIAN
METHOD:PUBLISH
X-WR-CALNAME:Chelsea Chen
X-ORIGINAL-URL:https://chelseachen.com
X-WR-CALDESC:Events for Chelsea Chen
BEGIN:VEVENT
DTSTART;TZID=America/Chicago:20170210T193000
DTEND;TZID=America/Chicago:20170210T193000
DTSTAMP:20260424T033844
CREATED:20170515T001938Z
LAST-MODIFIED:20170515T002026Z
UID:1525-1486755000-1486755000@chelseachen.com
SUMMARY:Feb. 10 2017 Chicago
DESCRIPTION:Time TBA \n
URL:https://chelseachen.com/event/feb-10-2017-chicago/
END:VEVENT
END:VCALENDAR