BEGIN:VCALENDAR
VERSION:2.0
PRODID:-//Chelsea Chen - ECPv4.6.9//NONSGML v1.0//EN
CALSCALE:GREGORIAN
METHOD:PUBLISH
X-WR-CALNAME:Chelsea Chen
X-ORIGINAL-URL:https://chelseachen.com
X-WR-CALDESC:Events for Chelsea Chen
BEGIN:VEVENT
DTSTART;TZID=America/Chicago:20200401T193000
DTEND;TZID=America/Chicago:20200401T210000
DTSTAMP:20260423T205152
CREATED:20200212T171934Z
LAST-MODIFIED:20200212T174927Z
UID:2051-1585769400-1585774800@chelseachen.com
SUMMARY:Deerfield\, IL: Trinity International University
DESCRIPTION:Duo Concert with Joseph Lee\, cello \n  \nThe Helen Smith Richard Organ Recital Series at Trinity. \nTickets are $12 for adults and $8 for students and seniors. \n
URL:https://chelseachen.com/event/deerfield-il-trinity-international-university/
LOCATION:2065 Half Day Rd\, Bannockburn\, IL 60015
ATTACH;FMTTYPE=image/jpeg:https://chelseachen.com/wp-content/uploads/2013/10/DSC_5135.jpg
END:VEVENT
END:VCALENDAR