BEGIN:VCALENDAR
VERSION:2.0
PRODID:-//Chelsea Chen - ECPv4.6.9//NONSGML v1.0//EN
CALSCALE:GREGORIAN
METHOD:PUBLISH
X-WR-CALNAME:Chelsea Chen
X-ORIGINAL-URL:https://chelseachen.com
X-WR-CALDESC:Events for Chelsea Chen
BEGIN:VEVENT
DTSTART;TZID=America/New_York:20161106T090000
DTEND;TZID=America/New_York:20161106T090000
DTSTAMP:20260424T034812
CREATED:20170515T001927Z
LAST-MODIFIED:20170515T002026Z
UID:1501-1478422800-1478422800@chelseachen.com
SUMMARY:CRPC Nov. 6
DESCRIPTION:9AM Traditional Service – organ and choirCRPC Oct 30\,http://new.chelseachen.com/event/crpc-xmas-eve-2015/\,Coral Ridge Presbyterian Church \n
URL:https://chelseachen.com/event/crpc-nov-6/
END:VEVENT
END:VCALENDAR