BEGIN:VCALENDAR
VERSION:2.0
PRODID:-//Chelsea Chen - ECPv4.6.9//NONSGML v1.0//EN
CALSCALE:GREGORIAN
METHOD:PUBLISH
X-WR-CALNAME:Chelsea Chen
X-ORIGINAL-URL:https://chelseachen.com
X-WR-CALDESC:Events for Chelsea Chen
BEGIN:VEVENT
DTSTART;TZID=America/New_York:20230507T150000
DTEND;TZID=America/New_York:20230507T163000
DTSTAMP:20260423T171104
CREATED:20220903T222039Z
LAST-MODIFIED:20230321T173458Z
UID:2243-1683471600-1683477000@chelseachen.com
SUMMARY:Coshocton\, OH
DESCRIPTION:Solo Concert \n
URL:https://chelseachen.com/event/coshocton-oh/
LOCATION:142 N 4th St #100\, Coshocton\, OH 43812
END:VEVENT
END:VCALENDAR