BEGIN:VCALENDAR
VERSION:2.0
PRODID:-//Chelsea Chen - ECPv4.6.9//NONSGML v1.0//EN
CALSCALE:GREGORIAN
METHOD:PUBLISH
X-WR-CALNAME:Chelsea Chen
X-ORIGINAL-URL:https://chelseachen.com
X-WR-CALDESC:Events for Chelsea Chen
BEGIN:VEVENT
DTSTART;TZID=America/New_York:20171215T193000
DTEND;TZID=America/New_York:20171215T213000
DTSTAMP:20260424T015716
CREATED:20171212T154511Z
LAST-MODIFIED:20171213T194719Z
UID:1747-1513366200-1513373400@chelseachen.com
SUMMARY:Coral Ridge Christmas Concert
DESCRIPTION:Choir\, Orchestra and Soloists will perform Christmas favorites! \nFREE for children/students \n
URL:https://chelseachen.com/event/coral-ridge-christmas-concert-2/
LOCATION:5555 N Federal Hwy\, Ft. Lauderdale\, FL\, 33308\, United States
ATTACH;FMTTYPE=image/jpeg:https://chelseachen.com/wp-content/uploads/2017/12/20171212_140015.jpg
END:VEVENT
END:VCALENDAR