BEGIN:VCALENDAR
VERSION:2.0
PRODID:-//Chelsea Chen - ECPv4.6.9//NONSGML v1.0//EN
CALSCALE:GREGORIAN
METHOD:PUBLISH
X-WR-CALNAME:Chelsea Chen
X-ORIGINAL-URL:https://chelseachen.com
X-WR-CALDESC:Events for Chelsea Chen
BEGIN:VEVENT
DTSTART;TZID=America/New_York:20160331T193000
DTEND;TZID=America/New_York:20160331T193000
DTSTAMP:20260424T035155
CREATED:20170515T001933Z
LAST-MODIFIED:20170515T002027Z
UID:1514-1459452600-1459452600@chelseachen.com
SUMMARY:Church of the Covenant Concert
DESCRIPTION:Program will include: CRPC  April 9 2017\,http://new.chelseachen.com/event/coral-ridge-presbyterian-church-sept-25/\,Coral Ridge Presbyterian Church \n
URL:https://chelseachen.com/event/church-of-the-covenant-concert/
END:VEVENT
END:VCALENDAR