BEGIN:VCALENDAR
VERSION:2.0
PRODID:-//Chelsea Chen - ECPv4.6.9//NONSGML v1.0//EN
CALSCALE:GREGORIAN
METHOD:PUBLISH
X-WR-CALNAME:Chelsea Chen
X-ORIGINAL-URL:https://chelseachen.com
X-WR-CALDESC:Events for Chelsea Chen
BEGIN:VEVENT
DTSTART;TZID=America/New_York:20221030T153000
DTEND;TZID=America/New_York:20221030T170000
DTSTAMP:20260423T191413
CREATED:20220505T204057Z
LAST-MODIFIED:20220505T204057Z
UID:2197-1667143800-1667149200@chelseachen.com
SUMMARY:Chicago\, IL
DESCRIPTION:Rheinberger Organ Concerto in G Minor \n
URL:https://chelseachen.com/event/chicago-il/
LOCATION:7300 Division St\, River Forest\, IL 60305
END:VEVENT
END:VCALENDAR