BEGIN:VCALENDAR
VERSION:2.0
PRODID:-//Chelsea Chen - ECPv4.6.9//NONSGML v1.0//EN
CALSCALE:GREGORIAN
METHOD:PUBLISH
X-WR-CALNAME:Chelsea Chen
X-ORIGINAL-URL:https://chelseachen.com
X-WR-CALDESC:Events for Chelsea Chen
BEGIN:VEVENT
DTSTART;TZID=America/Chicago:20240920T193000
DTEND;TZID=America/Chicago:20240920T213000
DTSTAMP:20260423T173014
CREATED:20231017T103433Z
LAST-MODIFIED:20231017T103433Z
UID:2296-1726860600-1726867800@chelseachen.com
SUMMARY:Carbondale\, IL: Shyrock Auditorium
DESCRIPTION:Solo Organ Recital\nShyrock Auditorium\, Southern Illinois University\, Carbondale\, IL \n
URL:https://chelseachen.com/event/carbondale-il-shyrock-auditorium/
LOCATION:1050 S Normal Ave\, Carbondale\, IL\, 62901\, United States
END:VEVENT
END:VCALENDAR