BEGIN:VCALENDAR
VERSION:2.0
PRODID:-//Chelsea Chen - ECPv4.6.9//NONSGML v1.0//EN
CALSCALE:GREGORIAN
METHOD:PUBLISH
X-WR-CALNAME:Chelsea Chen
X-ORIGINAL-URL:https://chelseachen.com
X-WR-CALDESC:Events for Chelsea Chen
BEGIN:VEVENT
DTSTART;TZID=America/New_York:20230211T100000
DTEND;TZID=America/New_York:20230211T120000
DTSTAMP:20260423T190851
CREATED:20220903T221447Z
LAST-MODIFIED:20220903T221447Z
UID:2233-1676109600-1676116800@chelseachen.com
SUMMARY:Canandaigua\, NY Masterclass
DESCRIPTION:
URL:https://chelseachen.com/event/canandaigua-ny-masterclass/
LOCATION:11 E Gibson St\, Canandaigua\, NY 14424
END:VEVENT
END:VCALENDAR