BEGIN:VCALENDAR
VERSION:2.0
PRODID:-//Chelsea Chen - ECPv4.6.9//NONSGML v1.0//EN
CALSCALE:GREGORIAN
METHOD:PUBLISH
X-WR-CALNAME:Chelsea Chen
X-ORIGINAL-URL:https://chelseachen.com
X-WR-CALDESC:Events for Chelsea Chen
BEGIN:VEVENT
DTSTART;TZID=America/New_York:20230210T193000
DTEND;TZID=America/New_York:20230210T213000
DTSTAMP:20260423T172912
CREATED:20220903T221336Z
LAST-MODIFIED:20220903T221336Z
UID:2231-1676057400-1676064600@chelseachen.com
SUMMARY:Canandaigua\, NY
DESCRIPTION:Solo Concert \n
URL:https://chelseachen.com/event/canandaigua-ny-2/
LOCATION:11 E Gibson St\, Canandaigua\, NY 14424
END:VEVENT
END:VCALENDAR