BEGIN:VCALENDAR
VERSION:2.0
PRODID:-//Chelsea Chen - ECPv4.6.9//NONSGML v1.0//EN
CALSCALE:GREGORIAN
METHOD:PUBLISH
X-WR-CALNAME:Chelsea Chen
X-ORIGINAL-URL:https://chelseachen.com
X-WR-CALDESC:Events for Chelsea Chen
BEGIN:VEVENT
DTSTART;TZID=America/New_York:20190703T080000
DTEND;TZID=America/New_York:20190703T170000
DTSTAMP:20260424T000506
CREATED:20180117T000333Z
LAST-MODIFIED:20180117T000333Z
UID:1822-1562140800-1562173200@chelseachen.com
SUMMARY:Buffalo\, NY: Holy Trinity Lutheran Church
DESCRIPTION:AGO Regional Convention Solo Concert\, time TBA \n
URL:https://chelseachen.com/event/buffalo-ny-holy-trinity-lutheran-church/
ATTACH;FMTTYPE=image/jpeg:https://chelseachen.com/wp-content/uploads/2018/01/22526817.IMG_2196.jpg
END:VEVENT
END:VCALENDAR