BEGIN:VCALENDAR
VERSION:2.0
PRODID:-//Chelsea Chen - ECPv4.6.9//NONSGML v1.0//EN
CALSCALE:GREGORIAN
METHOD:PUBLISH
X-WR-CALNAME:Chelsea Chen
X-ORIGINAL-URL:https://chelseachen.com
X-WR-CALDESC:Events for Chelsea Chen
BEGIN:VEVENT
DTSTART;TZID=America/Denver:20181116T193000
DTEND;TZID=America/Denver:20181116T210000
DTSTAMP:20260423T235922
CREATED:20180208T185843Z
LAST-MODIFIED:20180208T185843Z
UID:1837-1542396600-1542402000@chelseachen.com
SUMMARY:Boulder\, Colorado
DESCRIPTION:
URL:https://chelseachen.com/event/boulder-colorado/
LOCATION:1128 Pine St\, Boulder\, CO 80302
ATTACH;FMTTYPE=image/jpeg:https://chelseachen.com/wp-content/uploads/2018/02/4933650562_d65d4877f0_b.jpg
END:VEVENT
END:VCALENDAR