BEGIN:VCALENDAR
VERSION:2.0
PRODID:-//Chelsea Chen - ECPv4.6.9//NONSGML v1.0//EN
CALSCALE:GREGORIAN
METHOD:PUBLISH
X-WR-CALNAME:Chelsea Chen
X-ORIGINAL-URL:https://chelseachen.com
X-WR-CALDESC:Events for Chelsea Chen
BEGIN:VEVENT
DTSTART;TZID=Asia/Taipei:20190909T193000
DTEND;TZID=Asia/Taipei:20190909T213000
DTSTAMP:20260424T000619
CREATED:20190728T095632Z
LAST-MODIFIED:20190728T095757Z
UID:1999-1568057400-1568064600@chelseachen.com
SUMMARY:Beijing\, China: Forbidden City Concert Hall
DESCRIPTION:Concert with Jean-Willy Kunz as part of the Beijing International Organ Festival \n  \n  \n
URL:https://chelseachen.com/event/beijing-china-forbidden-city-concert-hall/
ATTACH;FMTTYPE=image/jpeg:https://chelseachen.com/wp-content/uploads/2019/07/Sinfonische_Blasorchester_des_Bayerischen_Blasmusikverbands_at_Forbidden_City_Concert_Hall_Beijing.jpg
END:VEVENT
END:VCALENDAR