BEGIN:VCALENDAR
VERSION:2.0
PRODID:-//Chelsea Chen - ECPv4.6.9//NONSGML v1.0//EN
CALSCALE:GREGORIAN
METHOD:PUBLISH
X-WR-CALNAME:Chelsea Chen
X-ORIGINAL-URL:https://chelseachen.com
X-WR-CALDESC:Events for Chelsea Chen
BEGIN:VEVENT
DTSTART;TZID=America/Chicago:20200317T193000
DTEND;TZID=America/Chicago:20200317T213000
DTSTAMP:20260423T222814
CREATED:20200211T232807Z
LAST-MODIFIED:20200211T232928Z
UID:2046-1584473400-1584480600@chelseachen.com
SUMMARY:Baylor\, TX: Jones Concert Hall
DESCRIPTION:Solo Concert at Baylor University’s Jones Concert Hall \n
URL:https://chelseachen.com/event/baylor-tx-jones-concert-hall/
LOCATION:110 Baylor Ave\, Waco\, TX 76706
ATTACH;FMTTYPE=image/jpeg:https://chelseachen.com/wp-content/uploads/2020/02/6711364_I1TYRRt0Jnc6GbM6CxAHkOulZ9mtJOEAoe3Bab3tv-E.jpg
END:VEVENT
END:VCALENDAR