BEGIN:VCALENDAR
VERSION:2.0
PRODID:-//Chelsea Chen - ECPv4.6.9//NONSGML v1.0//EN
CALSCALE:GREGORIAN
METHOD:PUBLISH
X-WR-CALNAME:Chelsea Chen
X-ORIGINAL-URL:https://chelseachen.com
X-WR-CALDESC:Events for Chelsea Chen
BEGIN:VEVENT
DTSTART;TZID=Europe/Zurich:20220617T220000
DTEND;TZID=Europe/Zurich:20220617T230000
DTSTAMP:20260423T191421
CREATED:20220505T203445Z
LAST-MODIFIED:20220510T164859Z
UID:2187-1655503200-1655506800@chelseachen.com
SUMMARY:Basel\, Switzerland
DESCRIPTION:Nacht des Glaubens \nEnsemble Ultra Schall \nhttps://www.nachtdesglaubens.ch/programm-2021/ \n
URL:https://chelseachen.com/event/basel-switzerland/
LOCATION:Totentanz 19\, 4056 Basel\, Switzerland
END:VEVENT
END:VCALENDAR