BEGIN:VCALENDAR
VERSION:2.0
PRODID:-//Chelsea Chen - ECPv4.6.9//NONSGML v1.0//EN
CALSCALE:GREGORIAN
METHOD:PUBLISH
X-WR-CALNAME:Chelsea Chen
X-ORIGINAL-URL:https://chelseachen.com
X-WR-CALDESC:Events for Chelsea Chen
BEGIN:VEVENT
DTSTART;TZID=America/New_York:20230618T190000
DTEND;TZID=America/New_York:20230618T203000
DTSTAMP:20260423T171056
CREATED:20220903T222230Z
LAST-MODIFIED:20220903T222644Z
UID:2246-1687114800-1687120200@chelseachen.com
SUMMARY:Augusta\, GA
DESCRIPTION:Solo Concert for the AGO Southeast Convention \n  \n
URL:https://chelseachen.com/event/augusta-ga/
LOCATION:605 Reynolds St\, Augusta\, GA 30901
END:VEVENT
END:VCALENDAR