BEGIN:VCALENDAR
VERSION:2.0
PRODID:-//Chelsea Chen - ECPv4.6.9//NONSGML v1.0//EN
CALSCALE:GREGORIAN
METHOD:PUBLISH
X-WR-CALNAME:Chelsea Chen
X-ORIGINAL-URL:https://chelseachen.com
X-WR-CALDESC:Events for Chelsea Chen
BEGIN:VEVENT
DTSTART;TZID=America/Chicago:20180407T150000
DTEND;TZID=America/Chicago:20180407T163000
DTSTAMP:20260424T015248
CREATED:20180116T144749Z
LAST-MODIFIED:20180116T152434Z
UID:1808-1523113200-1523118600@chelseachen.com
SUMMARY:Chicago: Trinity International University
DESCRIPTION:Olson Chapel\, Trinity University \nConference with Zac Hicks\, April 6th \nSolo Organ Concert\, April 7th \n
URL:https://chelseachen.com/event/april-5-2018/
LOCATION:2065 Half Day Rd\, Bannockburn\, IL 60015
ATTACH;FMTTYPE=image/jpeg:https://chelseachen.com/wp-content/uploads/2013/10/DSC_5135.jpg
END:VEVENT
END:VCALENDAR