BEGIN:VCALENDAR
VERSION:2.0
PRODID:-//Chelsea Chen - ECPv4.6.9//NONSGML v1.0//EN
CALSCALE:GREGORIAN
METHOD:PUBLISH
X-WR-CALNAME:Chelsea Chen
X-ORIGINAL-URL:https://chelseachen.com
X-WR-CALDESC:Events for Chelsea Chen
BEGIN:VEVENT
DTSTART;TZID=America/New_York:20190920T190000
DTEND;TZID=America/New_York:20190920T203000
DTSTAMP:20260423T222651
CREATED:20190728T094332Z
LAST-MODIFIED:20190728T203817Z
UID:1991-1569006000-1569011400@chelseachen.com
SUMMARY:Annapolis MD: Naval Academy Chapel
DESCRIPTION:
URL:https://chelseachen.com/event/annapolis-md-usna-chapel/
LOCATION:Annapolis\, MD
ATTACH;FMTTYPE=image/jpeg:https://chelseachen.com/wp-content/uploads/2019/07/Naval_Academy_chapel.jpg
END:VEVENT
END:VCALENDAR