BEGIN:VCALENDAR
VERSION:2.0
PRODID:-//Chelsea Chen - ECPv4.6.9//NONSGML v1.0//EN
CALSCALE:GREGORIAN
METHOD:PUBLISH
X-WR-CALNAME:Chelsea Chen
X-ORIGINAL-URL:https://chelseachen.com
X-WR-CALDESC:Events for Chelsea Chen
BEGIN:VEVENT
DTSTART;TZID=America/Denver:20220622T190000
DTEND;TZID=America/Denver:20220622T203000
DTSTAMP:20260423T191944
CREATED:20210609T110617Z
LAST-MODIFIED:20210609T110617Z
UID:2121-1655924400-1655929800@chelseachen.com
SUMMARY:Albuquerque\, NM: The Cathedral Church of St. John
DESCRIPTION:Solo Organ Recital as part of 2nd Biennial Reuter Organ Festival \n
URL:https://chelseachen.com/event/albuquerque-nm-the-cathedral-church-of-st-john/
LOCATION:318 Silver Ave SW\, Albuquerque\, NM 87102
END:VEVENT
END:VCALENDAR