BEGIN:VCALENDAR
VERSION:2.0
PRODID:-//Chelsea Chen - ECPv4.6.9//NONSGML v1.0//EN
CALSCALE:GREGORIAN
METHOD:PUBLISH
X-WR-CALNAME:Chelsea Chen
X-ORIGINAL-URL:https://chelseachen.com
X-WR-CALDESC:Events for Chelsea Chen
BEGIN:VEVENT
DTSTART;TZID=Europe/Zurich:20220720T170000
DTEND;TZID=Europe/Zurich:20220720T180000
DTSTAMP:20260423T191419
CREATED:20220505T203018Z
LAST-MODIFIED:20220505T203018Z
UID:2181-1658336400-1658340000@chelseachen.com
SUMMARY:Aarhus\, Denmark
DESCRIPTION:Solo Concert \n  \n
URL:https://chelseachen.com/event/aarhus-denmark/
LOCATION:Store Torv\, 8000 Aarhus\, Denmark
END:VEVENT
END:VCALENDAR