BEGIN:VCALENDAR
VERSION:2.0
PRODID:-//Chelsea Chen - ECPv4.6.9//NONSGML v1.0//EN
CALSCALE:GREGORIAN
METHOD:PUBLISH
X-WR-CALNAME:Chelsea Chen
X-ORIGINAL-URL:https://chelseachen.com
X-WR-CALDESC:Events for Chelsea Chen
BEGIN:VEVENT
DTSTART;TZID=America/New_York:20161118T200000
DTEND;TZID=America/New_York:20161118T200000
DTSTAMP:20260424T034931
CREATED:20170515T001935Z
LAST-MODIFIED:20170515T002026Z
UID:1517-1479499200-1479499200@chelseachen.com
SUMMARY:2016 Heinz Chapel
DESCRIPTION:
URL:https://chelseachen.com/event/2016-heinz-chapel/
END:VEVENT
END:VCALENDAR